BEGIN:VCALENDAR
VERSION:2.0
PRODID:-//Diocese of San Bernardino - ECPv6.15.20//NONSGML v1.0//EN
CALSCALE:GREGORIAN
METHOD:PUBLISH
X-ORIGINAL-URL:https://www.sbdcatholics.org
X-WR-CALDESC:Events for Diocese of San Bernardino
REFRESH-INTERVAL;VALUE=DURATION:PT1H
X-Robots-Tag:noindex
X-PUBLISHED-TTL:PT1H
BEGIN:VTIMEZONE
TZID:America/Los_Angeles
BEGIN:DAYLIGHT
TZOFFSETFROM:-0800
TZOFFSETTO:-0700
TZNAME:PDT
DTSTART:20250309T100000
END:DAYLIGHT
BEGIN:STANDARD
TZOFFSETFROM:-0700
TZOFFSETTO:-0800
TZNAME:PST
DTSTART:20251102T090000
END:STANDARD
BEGIN:DAYLIGHT
TZOFFSETFROM:-0800
TZOFFSETTO:-0700
TZNAME:PDT
DTSTART:20260308T100000
END:DAYLIGHT
BEGIN:STANDARD
TZOFFSETFROM:-0700
TZOFFSETTO:-0800
TZNAME:PST
DTSTART:20261101T090000
END:STANDARD
BEGIN:DAYLIGHT
TZOFFSETFROM:-0800
TZOFFSETTO:-0700
TZNAME:PDT
DTSTART:20270314T100000
END:DAYLIGHT
BEGIN:STANDARD
TZOFFSETFROM:-0700
TZOFFSETTO:-0800
TZNAME:PST
DTSTART:20271107T090000
END:STANDARD
END:VTIMEZONE
BEGIN:VEVENT
DTSTART;TZID=America/Los_Angeles:20260314T090000
DTEND;TZID=America/Los_Angeles:20260314T160000
DTSTAMP:20260425T044021
CREATED:20260312T194531Z
LAST-MODIFIED:20260312T194531Z
UID:7641-1773478800-1773504000@www.sbdcatholics.org
SUMMARY:Exploring and Living Catholic Social Teaching
DESCRIPTION:
URL:https://www.sbdcatholics.org/event/exploring-and-living-catholic-social-teaching/
LOCATION:St. Christopher\, Moreno Valley\, 25075 Cottonwood Ave\, Moreno Valley\, CA\, 92553\, United States
END:VEVENT
BEGIN:VEVENT
DTSTART;TZID=America/Los_Angeles:20260314T110000
DTEND;TZID=America/Los_Angeles:20260314T123000
DTSTAMP:20260425T044021
CREATED:20260311T202005Z
LAST-MODIFIED:20260311T202005Z
UID:7614-1773486000-1773491400@www.sbdcatholics.org
SUMMARY:Rite of Election
DESCRIPTION:
URL:https://www.sbdcatholics.org/event/rite-of-election/
LOCATION:Our Lady of the Rosary Cathedral\, 2525 N Arrowhead Ave.\, San Bernardino\, CA\, United States
END:VEVENT
BEGIN:VEVENT
DTSTART;TZID=America/Los_Angeles:20260331T150000
DTEND;TZID=America/Los_Angeles:20260331T163000
DTSTAMP:20260425T044021
CREATED:20260312T200908Z
LAST-MODIFIED:20260323T213523Z
UID:7649-1774969200-1774974600@www.sbdcatholics.org
SUMMARY:Chrism Mass
DESCRIPTION:
URL:https://www.sbdcatholics.org/event/chrism-mass/
LOCATION:Sacred Heart\, Rancho Cucamonga\, 12704 Foothill Blvd\, Rancho Cucamonga\, CA\, 91739\, United States
END:VEVENT
BEGIN:VEVENT
DTSTART;TZID=America/Los_Angeles:20260408T180000
DTEND;TZID=America/Los_Angeles:20260408T190000
DTSTAMP:20260425T044021
CREATED:20260313T205905Z
LAST-MODIFIED:20260313T205905Z
UID:7662-1775671200-1775674800@www.sbdcatholics.org
SUMMARY:Child Abuse Awareness and Victims Mass
DESCRIPTION:April is National Child Abuse Prevention Month!  \nIn observation of this very important cause and our own diocesan commitment to Promise to Protect our children and youth\, and our Duty to Heal with and accompany our sisters and brothers who have suffered the atrocities of abuse\, you are invited to join us\, in person or in prayer\, in our annual Child Abuse Awareness and Victims Mass which will take place Wednesday\, April 8 at 6 p.m. at Our Lady of the Rosary Cathedral. —Click Here to View the Mass Flyers in English and Spanish. \nWe invite parishes and schools to acknowledge April as National Child Abuse Prevention Month with the community\, staff\, families\, children\, youth\, and students by involving them in activities offered in the 2026 Child Abuse Prevention Month Toolkit — Click Here to Access the TOOLKIT. \nThe Office of Child and Youth Protection accompanies abuse victims in their healing journey primarily through our Restoring Me healing retreats. Please click on the link below to access the Restoring Me Retreats flyers in English and Spanish. —Restoring Me Retreats Flyer \nThank you for everything you do to help protect our children and youth from harm. \nSt. Joseph\, Protector of the Christ Child — Pray for us!
URL:https://www.sbdcatholics.org/event/child-abuse-awareness-and-victims-mass/
LOCATION:Our Lady of the Rosary Cathedral\, 2525 N Arrowhead Ave.\, San Bernardino\, CA\, United States
ORGANIZER;CN="Office of Child and Youth Protection":MAILTO:childandyouthprotection@sbdiocese.org
END:VEVENT
BEGIN:VEVENT
DTSTART;TZID=America/Los_Angeles:20260411T130000
DTEND;TZID=America/Los_Angeles:20260411T160000
DTSTAMP:20260425T044021
CREATED:20260313T211511Z
LAST-MODIFIED:20260313T211511Z
UID:7665-1775912400-1775923200@www.sbdcatholics.org
SUMMARY:4th Annual Tea Time with Bishop Rojas
DESCRIPTION:JOIN OUR CELEBRATION\n\n\nRegistration begins at 12:30 p.m. \n1:00 p.m. to 4:00 p.m. \nThe Tea Time with Bishop Rojas event aims to shed light on the needs of the charitable works of Bishop Rojas. Through fun and positive participation\, the coordinators and guests of this event will answer the call of the Gospel by generously giving their time\, talent\, and treasure. By doing so\, they will help spread hope and positively impact the lives of many.
URL:https://www.sbdcatholics.org/event/4th-annual-tea-time-with-bishop-rojas/
LOCATION:Diocesan Pastoral Center\, 1201 E Highland Ave.\, San Bernardino\, 92404\, United States
ORGANIZER;CN="Office Of Vocations":MAILTO:vocations@sbdiocese.org
END:VEVENT
BEGIN:VEVENT
DTSTART;TZID=America/Los_Angeles:20260425T163000
DTEND;TZID=America/Los_Angeles:20260425T173000
DTSTAMP:20260425T044021
CREATED:20260424T204103Z
LAST-MODIFIED:20260424T204103Z
UID:8172-1777134600-1777138200@www.sbdcatholics.org
SUMMARY:Earth Day Mass
DESCRIPTION:
URL:https://www.sbdcatholics.org/event/earth-day-mass/
LOCATION:St. Francis of Assisi Catholic Church\, 47225 Washington St\, La Quinta\, CA\, 92253\, United States
END:VEVENT
BEGIN:VEVENT
DTSTART;TZID=America/Los_Angeles:20260514T090000
DTEND;TZID=America/Los_Angeles:20260514T150000
DTSTAMP:20260425T044021
CREATED:20260424T202123Z
LAST-MODIFIED:20260424T202303Z
UID:8167-1778749200-1778770800@www.sbdcatholics.org
SUMMARY:2026 Diocesan Behavioral Health Conference
DESCRIPTION:
URL:https://www.sbdcatholics.org/event/2026-diocesan-behavioral-health-conference/
LOCATION:Diocesan Pastoral Center\, 1201 E Highland Ave.\, San Bernardino\, 92404\, United States
END:VEVENT
BEGIN:VEVENT
DTSTART;TZID=America/Los_Angeles:20260516T100000
DTEND;TZID=America/Los_Angeles:20260516T120000
DTSTAMP:20260425T044021
CREATED:20260424T195354Z
LAST-MODIFIED:20260424T195354Z
UID:7668-1778925600-1778932800@www.sbdcatholics.org
SUMMARY:Ordination to the Priesthood
DESCRIPTION:
URL:https://www.sbdcatholics.org/event/ordination-to-the-priesthood/
LOCATION:Sacred Heart\, Rancho Cucamonga\, 12704 Foothill Blvd\, Rancho Cucamonga\, CA\, 91739\, United States
END:VEVENT
BEGIN:VEVENT
DTSTART;TZID=America/Los_Angeles:20260520T170000
DTEND;TZID=America/Los_Angeles:20260520T190000
DTSTAMP:20260425T044021
CREATED:20260313T212508Z
LAST-MODIFIED:20260313T212508Z
UID:7670-1779296400-1779303600@www.sbdcatholics.org
SUMMARY:Diocesan Awards
DESCRIPTION:
URL:https://www.sbdcatholics.org/event/diocesan-awards/
LOCATION:Our Lady of the Rosary Cathedral\, 2525 N Arrowhead Ave.\, San Bernardino\, CA\, United States
END:VEVENT
BEGIN:VEVENT
DTSTART;TZID=America/Los_Angeles:20260523T180000
DTEND;TZID=America/Los_Angeles:20260523T210000
DTSTAMP:20260425T044021
CREATED:20260424T200602Z
LAST-MODIFIED:20260424T202414Z
UID:8157-1779559200-1779570000@www.sbdcatholics.org
SUMMARY:25th Annual Bishop's Dinner
DESCRIPTION:
URL:https://www.sbdcatholics.org/event/25th-annual-bishops-dinner/
LOCATION:JW Marriott Desert Springs Resort & Spa\, 74-855 Country Club Dr\, Palm Desert\, CA\, 92260\, United States
ORGANIZER;CN="Office of Mission Advancement":MAILTO:missionadvancement@sbdiocese.org
END:VEVENT
BEGIN:VEVENT
DTSTART;TZID=America/Los_Angeles:20260626T180000
DTEND;TZID=America/Los_Angeles:20260626T220000
DTSTAMP:20260425T044021
CREATED:20260424T205640Z
LAST-MODIFIED:20260424T210247Z
UID:8182-1782496800-1782511200@www.sbdcatholics.org
SUMMARY:Priests vs Seminarians Football Rematch
DESCRIPTION:
URL:https://www.sbdcatholics.org/event/priests-vs-seminarians-football-rematch/
LOCATION:Aquinas High School\, 2772 N Sterling Ave\, San Bernardino\, CA\, 92404\, United States
END:VEVENT
BEGIN:VEVENT
DTSTART;TZID=America/Los_Angeles:20260627T103000
DTEND;TZID=America/Los_Angeles:20260627T233000
DTSTAMP:20260425T044021
CREATED:20260313T213923Z
LAST-MODIFIED:20260424T205319Z
UID:7676-1782556200-1782603000@www.sbdcatholics.org
SUMMARY:Embrace Ministry: 2nd Annual Mass
DESCRIPTION:
URL:https://www.sbdcatholics.org/event/embrace-ministry-welcome-inclusion-mass/
LOCATION:Our Lady of the Rosary Cathedral\, 2525 N Arrowhead Ave.\, San Bernardino\, CA\, United States
ORGANIZER;CN="Embrace Minsitry":MAILTO:embrace@sbdiocese.org
END:VEVENT
BEGIN:VEVENT
DTSTART;TZID=America/Los_Angeles:20260918T180000
DTEND;TZID=America/Los_Angeles:20260918T193000
DTSTAMP:20260425T044021
CREATED:20260313T214707Z
LAST-MODIFIED:20260313T214707Z
UID:7684-1789754400-1789759800@www.sbdcatholics.org
SUMMARY:Rite of Candidacy
DESCRIPTION:
URL:https://www.sbdcatholics.org/event/rite-of-candidacy/
LOCATION:CA
END:VEVENT
BEGIN:VEVENT
DTSTART;TZID=America/Los_Angeles:20260919T090000
DTEND;TZID=America/Los_Angeles:20260919T100000
DTSTAMP:20260425T044021
CREATED:20260313T215000Z
LAST-MODIFIED:20260313T215000Z
UID:7686-1789808400-1789812000@www.sbdcatholics.org
SUMMARY:Rite of Acolyte & Rite of Lector
DESCRIPTION:
URL:https://www.sbdcatholics.org/event/rite-of-acolyte-rite-of-lector/
LOCATION:CA
END:VEVENT
BEGIN:VEVENT
DTSTART;TZID=America/Los_Angeles:20261107T090000
DTEND;TZID=America/Los_Angeles:20261107T100000
DTSTAMP:20260425T044021
CREATED:20260313T215223Z
LAST-MODIFIED:20260313T215223Z
UID:7690-1794042000-1794045600@www.sbdcatholics.org
SUMMARY:Diaconate Convocation
DESCRIPTION:
URL:https://www.sbdcatholics.org/event/diaconate-convocation/
LOCATION:Diocesan Pastoral Center\, 1201 E Highland Ave.\, San Bernardino\, 92404\, United States
END:VEVENT
BEGIN:VEVENT
DTSTART;TZID=America/Los_Angeles:20261219T100000
DTEND;TZID=America/Los_Angeles:20261219T120000
DTSTAMP:20260425T044021
CREATED:20260313T220450Z
LAST-MODIFIED:20260313T220450Z
UID:7696-1797674400-1797681600@www.sbdcatholics.org
SUMMARY:Transitional Diaconate Ordination
DESCRIPTION:
URL:https://www.sbdcatholics.org/event/transitional-diaconate-ordination/
LOCATION:St. Frances Xavier Cabrini\, Yucaipa\, 12687 California St\, Yucaipa\, 92399
END:VEVENT
END:VCALENDAR